BEGIN:VCALENDAR
VERSION:2.0
PRODID:-//Lifeline Chaplaincy - ECPv6.15.20//NONSGML v1.0//EN
CALSCALE:GREGORIAN
METHOD:PUBLISH
X-WR-CALNAME:Lifeline Chaplaincy
X-ORIGINAL-URL:https://lifelinechaplaincy.org
X-WR-CALDESC:Events for Lifeline Chaplaincy
REFRESH-INTERVAL;VALUE=DURATION:PT1H
X-Robots-Tag:noindex
X-PUBLISHED-TTL:PT1H
BEGIN:VTIMEZONE
TZID:America/Chicago
BEGIN:DAYLIGHT
TZOFFSETFROM:-0600
TZOFFSETTO:-0500
TZNAME:CDT
DTSTART:20250309T080000
END:DAYLIGHT
BEGIN:STANDARD
TZOFFSETFROM:-0500
TZOFFSETTO:-0600
TZNAME:CST
DTSTART:20251102T070000
END:STANDARD
BEGIN:DAYLIGHT
TZOFFSETFROM:-0600
TZOFFSETTO:-0500
TZNAME:CDT
DTSTART:20260308T080000
END:DAYLIGHT
BEGIN:STANDARD
TZOFFSETFROM:-0500
TZOFFSETTO:-0600
TZNAME:CST
DTSTART:20261101T070000
END:STANDARD
BEGIN:DAYLIGHT
TZOFFSETFROM:-0600
TZOFFSETTO:-0500
TZNAME:CDT
DTSTART:20270314T080000
END:DAYLIGHT
BEGIN:STANDARD
TZOFFSETFROM:-0500
TZOFFSETTO:-0600
TZNAME:CST
DTSTART:20271107T070000
END:STANDARD
END:VTIMEZONE
BEGIN:VEVENT
DTSTART;TZID=America/Chicago:20260502T090000
DTEND;TZID=America/Chicago:20260502T103000
DTSTAMP:20260423T071917
CREATED:20260118T194517Z
LAST-MODIFIED:20260118T194517Z
UID:23459-1777712400-1777717800@lifelinechaplaincy.org
SUMMARY:Special Topic - Navigating Advance Directives in the Hospital
DESCRIPTION:Advanced Directives can feel confusing and overwhelming\, especially when you are in the hospital. This seminar explains the content of these documents\, the rationale behind each one\, and the process of completing them. One goal is for participants to view these forms through the angle of dignity\, quality of life\, and compassion for family.
URL:https://lifelinechaplaincy.org/trainingscalendar/special-topic-navigating-advance-directives-in-the-hospital/
LOCATION:Virtual
CATEGORIES:Webinar
ATTACH;FMTTYPE=image/png:https://lifelinechaplaincy.org/wp-content/uploads/2026/01/specialtopic_icon@2x.png
END:VEVENT
BEGIN:VEVENT
DTSTART;TZID=America/Chicago:20260516T083000
DTEND;TZID=America/Chicago:20260516T160000
DTSTAMP:20260423T071917
CREATED:20260403T155509Z
LAST-MODIFIED:20260403T155527Z
UID:23593-1778920200-1778947200@lifelinechaplaincy.org
SUMMARY:Ministry In Times of Illness & Loss\, Part 1
DESCRIPTION:Recommended for anyone wanting to improve their skills in providing spiritual care to others.
URL:https://lifelinechaplaincy.org/trainingscalendar/ministry-in-times-of-illness-loss-part-1-3/
LOCATION:Skillman Church of Christ\, 3014 Skillman St\, Dallas\, 75206\, United States
CATEGORIES:Workshop
ATTACH;FMTTYPE=image/png:https://lifelinechaplaincy.org/wp-content/uploads/2026/01/workshop_icon-dallas.png
END:VEVENT
BEGIN:VEVENT
DTSTART;TZID=America/Chicago:20260516T090000
DTEND;TZID=America/Chicago:20260516T180000
DTSTAMP:20260423T071917
CREATED:20260105T224939Z
LAST-MODIFIED:20260221T140725Z
UID:23176-1778922000-1778954400@lifelinechaplaincy.org
SUMMARY:Ministry In Times of Illness & Loss\, Part 1
DESCRIPTION:Recommended for anyone wanting to improve their skills in providing spiritual care to others.
URL:https://lifelinechaplaincy.org/trainingscalendar/ministry-in-times-of-illness-loss-part-1-hou/
LOCATION:Lifeline Chaplaincy\, 1415 Southmore Blvd\, Houston\, TX\, 77004\, United States
CATEGORIES:Workshop
ATTACH;FMTTYPE=image/png:https://lifelinechaplaincy.org/wp-content/uploads/2026/01/workshop_icon_houston.png
END:VEVENT
BEGIN:VEVENT
DTSTART;TZID=America/Chicago:20260617T103000
DTEND;TZID=America/Chicago:20260617T120000
DTSTAMP:20260423T071917
CREATED:20260118T194751Z
LAST-MODIFIED:20260118T194751Z
UID:23461-1781692200-1781697600@lifelinechaplaincy.org
SUMMARY:Special Topic - Grieving the Loss of Children
DESCRIPTION:The unique impact of perinatal loss cannot be underestimated\, and the wake of these losses is far-reaching. Through this webinar we will explore some of how these types of losses are felt. Along with increased awareness of this type of grief\, we will discuss some sensitive strategies to better support families who have lost pregnancies and babies.
URL:https://lifelinechaplaincy.org/trainingscalendar/special-topic-grieving-the-loss-of-children/
LOCATION:Virtual
CATEGORIES:Webinar
ATTACH;FMTTYPE=image/png:https://lifelinechaplaincy.org/wp-content/uploads/2026/01/specialtopic_icon@2x.png
END:VEVENT
BEGIN:VEVENT
DTSTART;TZID=America/Chicago:20260711T090000
DTEND;TZID=America/Chicago:20260711T120000
DTSTAMP:20260423T071917
CREATED:20260403T160653Z
LAST-MODIFIED:20260403T160653Z
UID:23596-1783760400-1783771200@lifelinechaplaincy.org
SUMMARY:Ministry In Times of Illness & Loss\, Part 2
DESCRIPTION:A workshop on advanced communication and ministry to persons experiencing illness and loss. This workshop is for volunteers who have completed MTIL: Part One and for others with experience in pastoral care at the bedside.
URL:https://lifelinechaplaincy.org/trainingscalendar/ministry-in-times-of-illness-loss-part-2-2/
LOCATION:TBD in Tarrant County
CATEGORIES:Workshop
ATTACH;FMTTYPE=image/png:https://lifelinechaplaincy.org/wp-content/uploads/2026/04/workshop_icon_tarrant.png
END:VEVENT
BEGIN:VEVENT
DTSTART;TZID=America/Chicago:20260715T103000
DTEND;TZID=America/Chicago:20260715T120000
DTSTAMP:20260423T071917
CREATED:20260118T194947Z
LAST-MODIFIED:20260118T194947Z
UID:23464-1784111400-1784116800@lifelinechaplaincy.org
SUMMARY:Special Topic - Grieving the Mind
DESCRIPTION:Experiencing Alzheimer’s and Dementia is extremely disorienting. Those who care of these people must walk a difficult path. Watching the mind and memory of your loved ones slip away causes grief\, even though they are still physically still around. We will what pastoral care looks like both for the afflicted and their caregivers. Knowing some of what to expect and approaches we can take with our care can equip us to care for all those directly and indirectly affected by these diseases.
URL:https://lifelinechaplaincy.org/trainingscalendar/special-topic-grieving-the-mind/
LOCATION:Virtual
CATEGORIES:Webinar
ATTACH;FMTTYPE=image/png:https://lifelinechaplaincy.org/wp-content/uploads/2026/01/specialtopic_icon@2x.png
END:VEVENT
BEGIN:VEVENT
DTSTART;TZID=America/Chicago:20260813T103000
DTEND;TZID=America/Chicago:20260813T120000
DTSTAMP:20260423T071917
CREATED:20260118T195219Z
LAST-MODIFIED:20260118T195219Z
UID:23466-1786617000-1786622400@lifelinechaplaincy.org
SUMMARY:Special Topic - Who Is Responsible for Pastoral Care in the Local Congregation?
DESCRIPTION:Every congregation I’ve been part of or spoken with affirms the importance of pastoral care. Yet some struggle to define what pastoral care is\, while others wrestle with determining who within the congregation is responsible for providing it. Are ministers or elders the primary ones called to walk pastorally alongside congregants? Should responsibility belong to those with formal titles or to those who are spiritually gifted for this work? And most importantly\, how do we ensure that the needs of all our congregants are truly met?
URL:https://lifelinechaplaincy.org/trainingscalendar/special-topic-who-is-responsible-for-pastoral-care-in-the-local-congregation/
LOCATION:Virtual
CATEGORIES:Webinar
ATTACH;FMTTYPE=image/png:https://lifelinechaplaincy.org/wp-content/uploads/2026/01/specialtopic_icon@2x.png
END:VEVENT
BEGIN:VEVENT
DTSTART;TZID=America/Chicago:20260909T103000
DTEND;TZID=America/Chicago:20260909T120000
DTSTAMP:20260423T071917
CREATED:20260118T195359Z
LAST-MODIFIED:20260118T195359Z
UID:23469-1788949800-1788955200@lifelinechaplaincy.org
SUMMARY:Special Topic - Communal Grief
DESCRIPTION:While grief is very much an individual process\, there are times when our communities experience grief together over a shared loss. Individual and communal grief can be navigated similarly in some respects\, but communal grief can often be more complex since everyone grieves in their own way. We will explore some strategies to help a community walk the path of grief together in healthy\, respectful\, and meaningful ways.
URL:https://lifelinechaplaincy.org/trainingscalendar/special-topic-communal-grief/
LOCATION:Virtual
CATEGORIES:Webinar
ATTACH;FMTTYPE=image/png:https://lifelinechaplaincy.org/wp-content/uploads/2026/01/specialtopic_icon@2x.png
END:VEVENT
BEGIN:VEVENT
DTSTART;TZID=America/Chicago:20260919T080000
DTEND;TZID=America/Chicago:20260919T170000
DTSTAMP:20260423T071917
CREATED:20260221T135800Z
LAST-MODIFIED:20260221T140425Z
UID:23520-1789804800-1789837200@lifelinechaplaincy.org
SUMMARY:Ministry In Times of Illness & Loss\, Part 2
DESCRIPTION:A workshop on advanced communication and ministry to persons experiencing illness and loss. This workshop is for volunteers who have completed MTIL: Part One and for others with experience in pastoral care at the bedside.
URL:https://lifelinechaplaincy.org/trainingscalendar/ministry-in-times-of-illness-loss-part-2/
LOCATION:Lifeline Chaplaincy\, 1415 Southmore Blvd\, Houston\, TX\, 77004\, United States
CATEGORIES:Workshop
ATTACH;FMTTYPE=image/png:https://lifelinechaplaincy.org/wp-content/uploads/2026/01/workshop_icon_houston.png
END:VEVENT
BEGIN:VEVENT
DTSTART;TZID=America/Chicago:20260919T083000
DTEND;TZID=America/Chicago:20260919T170000
DTSTAMP:20260423T071917
CREATED:20260403T160931Z
LAST-MODIFIED:20260403T160931Z
UID:23601-1789806600-1789837200@lifelinechaplaincy.org
SUMMARY:Ministry In Times of Illness & Loss\, Part 1
DESCRIPTION:Recommended for anyone wanting to improve their skills in providing spiritual care to others.
URL:https://lifelinechaplaincy.org/trainingscalendar/ministry-in-times-of-illness-loss-part-1-4/
LOCATION:Georgetown Church of Christ\, 1525 W University Ave\, Georgetown\, TX\, 78628\, United States
CATEGORIES:Workshop
ATTACH;FMTTYPE=image/png:https://lifelinechaplaincy.org/wp-content/uploads/2026/04/workshop_icon_central.png
END:VEVENT
BEGIN:VEVENT
DTSTART;TZID=America/Chicago:20261003T090000
DTEND;TZID=America/Chicago:20261003T103000
DTSTAMP:20260423T071917
CREATED:20260118T195509Z
LAST-MODIFIED:20260118T195509Z
UID:23471-1791018000-1791023400@lifelinechaplaincy.org
SUMMARY:Special Topic - A Biblical Approach to Pastoral Care
DESCRIPTION:This seminar provides a simple four-fold model for pastoral care that is grounded in scripture. Participants will learn an accessible framework for supporting those in their congregations\, families\, and communities during loss and crisis. Two goals are for participants to have a clearer understanding of pastoral care and increased competence in caring for those around them. Registrants will receive a copy of A Brief Biblical Reflection on Pastoral Care.
URL:https://lifelinechaplaincy.org/trainingscalendar/special-topic-a-biblical-approach-to-pastoral-care/
LOCATION:Virtual
CATEGORIES:Webinar
ATTACH;FMTTYPE=image/png:https://lifelinechaplaincy.org/wp-content/uploads/2026/01/specialtopic_icon@2x.png
END:VEVENT
BEGIN:VEVENT
DTSTART;TZID=America/Chicago:20261017T090000
DTEND;TZID=America/Chicago:20261017T163000
DTSTAMP:20260423T071917
CREATED:20260403T161045Z
LAST-MODIFIED:20260403T161045Z
UID:23604-1792227600-1792254600@lifelinechaplaincy.org
SUMMARY:Ministry In Times of Illness & Loss\, Part 1
DESCRIPTION:Recommended for anyone wanting to improve their skills in providing spiritual care to others.
URL:https://lifelinechaplaincy.org/trainingscalendar/ministry-in-times-of-illness-loss-part-1-5/
LOCATION:TBD in Tarrant County
CATEGORIES:Workshop
ATTACH;FMTTYPE=image/png:https://lifelinechaplaincy.org/wp-content/uploads/2026/04/workshop_icon_tarrant.png
END:VEVENT
BEGIN:VEVENT
DTSTART;TZID=America/Chicago:20261024T080000
DTEND;TZID=America/Chicago:20261024T180000
DTSTAMP:20260423T071917
CREATED:20260221T135924Z
LAST-MODIFIED:20260221T135924Z
UID:23522-1792828800-1792864800@lifelinechaplaincy.org
SUMMARY:Ministry In Times of Illness & Loss\, Part 1
DESCRIPTION:Recommended for anyone wanting to improve their skills in providing spiritual care to others.
URL:https://lifelinechaplaincy.org/trainingscalendar/ministry-in-times-of-illness-loss-part-1-2/
LOCATION:Lifeline Chaplaincy\, 1415 Southmore Blvd\, Houston\, TX\, 77004\, United States
CATEGORIES:Workshop
ATTACH;FMTTYPE=image/png:https://lifelinechaplaincy.org/wp-content/uploads/2026/01/workshop_icon_houston.png
END:VEVENT
BEGIN:VEVENT
DTSTART;TZID=America/Chicago:20261112T103000
DTEND;TZID=America/Chicago:20261112T120000
DTSTAMP:20260423T071917
CREATED:20260118T195626Z
LAST-MODIFIED:20260118T195626Z
UID:23473-1794479400-1794484800@lifelinechaplaincy.org
SUMMARY:Special Topic - The Empty Chair
DESCRIPTION:Regardless of where you are in your grief\, special events can bring back the pain of loss in different and acute ways. This webinar will explore what types of things you can expect in these moments. We will also look at ways to incorporate your grief and memories into these times without letting it take over these significant life events\, such as holidays\, weddings\, and other milestones.
URL:https://lifelinechaplaincy.org/trainingscalendar/special-topic-the-empty-chair/
LOCATION:Virtual
CATEGORIES:Webinar
ATTACH;FMTTYPE=image/png:https://lifelinechaplaincy.org/wp-content/uploads/2026/01/specialtopic_icon@2x.png
END:VEVENT
END:VCALENDAR